BEGIN:VCALENDAR
VERSION:2.0
PRODID:-//merybere.com - ECPv6.15.20//NONSGML v1.0//EN
CALSCALE:GREGORIAN
METHOD:PUBLISH
X-WR-CALNAME:merybere.com
X-ORIGINAL-URL:https://merybere.com
X-WR-CALDESC:Eventos para merybere.com
REFRESH-INTERVAL;VALUE=DURATION:PT1H
X-Robots-Tag:noindex
X-PUBLISHED-TTL:PT1H
BEGIN:VTIMEZONE
TZID:Europe/Madrid
BEGIN:DAYLIGHT
TZOFFSETFROM:+0100
TZOFFSETTO:+0200
TZNAME:CEST
DTSTART:20250330T010000
END:DAYLIGHT
BEGIN:STANDARD
TZOFFSETFROM:+0200
TZOFFSETTO:+0100
TZNAME:CET
DTSTART:20251026T010000
END:STANDARD
BEGIN:DAYLIGHT
TZOFFSETFROM:+0100
TZOFFSETTO:+0200
TZNAME:CEST
DTSTART:20260329T010000
END:DAYLIGHT
BEGIN:STANDARD
TZOFFSETFROM:+0200
TZOFFSETTO:+0100
TZNAME:CET
DTSTART:20261025T010000
END:STANDARD
BEGIN:DAYLIGHT
TZOFFSETFROM:+0100
TZOFFSETTO:+0200
TZNAME:CEST
DTSTART:20270328T010000
END:DAYLIGHT
BEGIN:STANDARD
TZOFFSETFROM:+0200
TZOFFSETTO:+0100
TZNAME:CET
DTSTART:20271031T010000
END:STANDARD
END:VTIMEZONE
BEGIN:VEVENT
DTSTART;VALUE=DATE:20260130
DTEND;VALUE=DATE:20260202
DTSTAMP:20260422T131554
CREATED:20251028T125330Z
LAST-MODIFIED:20251217T115050Z
UID:1206-1769734800-1769907599@merybere.com
SUMMARY:Bilbostack 2026
DESCRIPTION:¡Nos vemos en BilboStack!\n\nEl viernes 30 de enero\, en La Previa\, daré una charla nueva\, «Una perturbación en la fuerza Agile»\, donde hablaré sobre buenas y malas prácticas Agile\, a través de mis experiencias aplicando eXtreme Programming con equipos de desarrollo.\n\nSerá en el Edificio Ensanche. Y el sábado\, ¡a disfrutar del resto de charlas en el Palacio Euskalduna!\n\nDespués de tantos años asistiendo a esta conferencia\, es muy emocionante ser ponente en su edición número 14 😍\n\nBilboStack es “casa”\, un espacio de donde siempre me llevo mucho conocimiento y gente muy muy bonita.\nUna perturbación en la fuerza Agile\nLos tiempos han cambiado\, el imperio waterfall recupera posiciones. Los equipos Agile\, perdidos por la falta de un liderazgo claro\, fallan en sus estrategias de trabajo. Siento una perturbación en la fuerza.\n\nLa confederación de organizaciones tecnológicas lleva años tratando de transformarse\, de adaptarse a los nuevos entornos en esta galaxia donde el cambio es la única constante que prevalece. ¿Lo consiguen? Como en todas las grandes batallas\, a veces se gana\, a veces se pierde.\n\nAgile es un mindset fácil de entender\, difícil de aplicar. Una de las armas con las que cuenta un equipo Agile es eXtreme Programming\, que nos ofrece herramientas para entrenar la excelencia técnica\, con sus valores y prácticas\, y así despertar la fuerza de los equipos.\n\nEn esta charla descubriremos cómo XP va más allá de escribir código de calidad\, priorizando la experiencia de los equipos de desarrollo\, y desplegando todo su potencial.\n\nCompartiré historias en las que he guiado a organizaciones que han iniciado su viaje: un camino de descubrimiento de nuevas dimensiones Agile en los equipos\, con sus errores y aciertos. Una transformación a una cultura de responsabilidad y colaboración en la creación de productos.\n\nPrepárate para una serie de casos reales que parecen sacados de la ciencia ficción.
URL:https://merybere.com/evento/bilbostack-2026/
LOCATION:Edificio Ensanche (La Previa) y Palacio Euskalduna\, Zabalgune Plaza\, 11\, Abando\, Bilbao\, Bizkaia\, 48009\, Spain
CATEGORIES:Conferencias
ATTACH;FMTTYPE=image/png:https://merybere.com/wp-content/uploads/2025/10/2026-Bilbostack-Maria-Berenguer.png
ORGANIZER;CN="Organizaci%C3%B3n de Bilbostack":MAILTO:info@bilbostack.com
END:VEVENT
END:VCALENDAR